BEGIN:VCALENDAR
VERSION:2.0
PRODID:-//TodoLoL//Matches CBLOL//ES
CALSCALE:GREGORIAN
METHOD:PUBLISH
NAME:TodoLoL — CBLOL
X-WR-CALNAME:TodoLoL — CBLOL
X-WR-CALDESC:Calendario oficial de partidos de la CBLOL en TodoLoL
X-WR-TIMEZONE:UTC
REFRESH-INTERVAL;VALUE=DURATION:PT1H
X-PUBLISHED-TTL:PT1H
BEGIN:VEVENT
UID:12345@todolol.com
DTSTAMP:20260422T134629Z
DTSTART:20260418T160000Z
DTEND:20260418T190000Z
SUMMARY:Fluxo W7M vs FURIA
DESCRIPTION:CBLOL · BO3\\nFase: Regular Season\\nMás info: http://localhost
 :4321/calendario?liga=cblol
CATEGORIES:CBLOL
STATUS:CONFIRMED
END:VEVENT
BEGIN:VEVENT
UID:12346@todolol.com
DTSTAMP:20260422T134629Z
DTSTART:20260418T190000Z
DTEND:20260418T220000Z
SUMMARY:LOS vs paiN Gaming
DESCRIPTION:CBLOL · BO3\\nFase: Regular Season\\nMás info: http://localhost
 :4321/calendario?liga=cblol
CATEGORIES:CBLOL
STATUS:CONFIRMED
END:VEVENT
BEGIN:VEVENT
UID:12327@todolol.com
DTSTAMP:20260422T134629Z
DTSTART:20260419T160000Z
DTEND:20260419T190000Z
SUMMARY:LOUD vs Leviatán
DESCRIPTION:CBLOL · BO3\\nFase: Regular Season\\nMás info: http://localhost
 :4321/calendario?liga=cblol
CATEGORIES:CBLOL
STATUS:CONFIRMED
END:VEVENT
BEGIN:VEVENT
UID:12328@todolol.com
DTSTAMP:20260422T134629Z
DTSTART:20260419T190000Z
DTEND:20260419T220000Z
SUMMARY:RED Canids vs Keyd Stars
DESCRIPTION:CBLOL · BO3\\nFase: Regular Season\\nMás info: http://localhost
 :4321/calendario?liga=cblol
CATEGORIES:CBLOL
STATUS:CONFIRMED
END:VEVENT
BEGIN:VEVENT
UID:12347@todolol.com
DTSTAMP:20260422T134629Z
DTSTART:20260425T160000Z
DTEND:20260425T190000Z
SUMMARY:LOS vs RED Canids
DESCRIPTION:CBLOL · BO3\\nFase: Regular Season\\nMás info: http://localhost
 :4321/calendario?liga=cblol
CATEGORIES:CBLOL
STATUS:TENTATIVE
END:VEVENT
BEGIN:VEVENT
UID:12348@todolol.com
DTSTAMP:20260422T134629Z
DTSTART:20260425T190000Z
DTEND:20260425T220000Z
SUMMARY:paiN Gaming vs Fluxo W7M
DESCRIPTION:CBLOL · BO3\\nFase: Regular Season\\nMás info: http://localhost
 :4321/calendario?liga=cblol
CATEGORIES:CBLOL
STATUS:TENTATIVE
END:VEVENT
BEGIN:VEVENT
UID:12349@todolol.com
DTSTAMP:20260422T134629Z
DTSTART:20260426T160000Z
DTEND:20260426T190000Z
SUMMARY:FURIA vs LOUD
DESCRIPTION:CBLOL · BO3\\nFase: Regular Season\\nMás info: http://localhost
 :4321/calendario?liga=cblol
CATEGORIES:CBLOL
STATUS:TENTATIVE
END:VEVENT
BEGIN:VEVENT
UID:12350@todolol.com
DTSTAMP:20260422T134629Z
DTSTART:20260426T190000Z
DTEND:20260426T220000Z
SUMMARY:Leviatán vs Keyd Stars
DESCRIPTION:CBLOL · BO3\\nFase: Regular Season\\nMás info: http://localhost
 :4321/calendario?liga=cblol
CATEGORIES:CBLOL
STATUS:TENTATIVE
END:VEVENT
BEGIN:VEVENT
UID:12351@todolol.com
DTSTAMP:20260422T134629Z
DTSTART:20260502T160000Z
DTEND:20260502T190000Z
SUMMARY:Leviatán vs paiN Gaming
DESCRIPTION:CBLOL · BO3\\nFase: Regular Season\\nMás info: http://localhost
 :4321/calendario?liga=cblol
CATEGORIES:CBLOL
STATUS:TENTATIVE
END:VEVENT
BEGIN:VEVENT
UID:12352@todolol.com
DTSTAMP:20260422T134629Z
DTSTART:20260502T190000Z
DTEND:20260502T220000Z
SUMMARY:FURIA vs RED Canids
DESCRIPTION:CBLOL · BO3\\nFase: Regular Season\\nMás info: http://localhost
 :4321/calendario?liga=cblol
CATEGORIES:CBLOL
STATUS:TENTATIVE
END:VEVENT
BEGIN:VEVENT
UID:12353@todolol.com
DTSTAMP:20260422T134629Z
DTSTART:20260503T160000Z
DTEND:20260503T190000Z
SUMMARY:Fluxo W7M vs LOS
DESCRIPTION:CBLOL · BO3\\nFase: Regular Season\\nMás info: http://localhost
 :4321/calendario?liga=cblol
CATEGORIES:CBLOL
STATUS:TENTATIVE
END:VEVENT
BEGIN:VEVENT
UID:12354@todolol.com
DTSTAMP:20260422T134629Z
DTSTART:20260503T190000Z
DTEND:20260503T220000Z
SUMMARY:LOUD vs Keyd Stars
DESCRIPTION:CBLOL · BO3\\nFase: Regular Season\\nMás info: http://localhost
 :4321/calendario?liga=cblol
CATEGORIES:CBLOL
STATUS:TENTATIVE
END:VEVENT
END:VCALENDAR
