BEGIN:VCALENDAR
VERSION:2.0
PRODID:-//TodoLoL//Matches EM//ES
CALSCALE:GREGORIAN
METHOD:PUBLISH
NAME:TodoLoL — EM
X-WR-CALNAME:TodoLoL — EM
X-WR-CALDESC:Calendario oficial de partidos de la EM en TodoLoL
X-WR-TIMEZONE:UTC
REFRESH-INTERVAL;VALUE=DURATION:PT1H
X-PUBLISHED-TTL:PT1H
BEGIN:VEVENT
UID:12073@todolol.com
DTSTAMP:20260422T134511Z
DTSTART:20260421T150000Z
DTEND:20260421T190000Z
SUMMARY:Galions vs Solary
DESCRIPTION:EM · BO5\\nFase: Playoffs\\nMás info: http://localhost:4321/cal
 endario?liga=em
CATEGORIES:EM
STATUS:CONFIRMED
END:VEVENT
END:VCALENDAR
