BEGIN:VCALENDAR
VERSION:2.0
PRODID:-//TodoLoL//Matches ESPORTS-WORLD-CUP-2026-CHINA//ES
CALSCALE:GREGORIAN
METHOD:PUBLISH
NAME:TodoLoL — ESPORTS-WORLD-CUP-2026-CHINA
X-WR-CALNAME:TodoLoL — ESPORTS-WORLD-CUP-2026-CHINA
X-WR-CALDESC:Calendario oficial de partidos de la ESPORTS-WORLD-CUP-2026-CH
 INA en TodoLoL
X-WR-TIMEZONE:UTC
REFRESH-INTERVAL;VALUE=DURATION:PT1H
X-PUBLISHED-TTL:PT1H
BEGIN:VEVENT
UID:12441@todolol.com
DTSTAMP:20260422T135247Z
DTSTART:20260420T090000Z
DTEND:20260420T120000Z
SUMMARY:Weibo Gaming vs Oh My God
DESCRIPTION:Esports World Cup 2026 China Qualifier · BO3\\nMás info: http:/
 /localhost:4321/calendario?liga=esports-world-cup-2026-china
CATEGORIES:Esports World Cup 2026 China Qualifier
STATUS:CONFIRMED
END:VEVENT
BEGIN:VEVENT
UID:12442@todolol.com
DTSTAMP:20260422T135247Z
DTSTART:20260420T103000Z
DTEND:20260420T133000Z
SUMMARY:Bilibili Gaming vs Invictus Gaming
DESCRIPTION:Esports World Cup 2026 China Qualifier · BO3\\nMás info: http:/
 /localhost:4321/calendario?liga=esports-world-cup-2026-china
CATEGORIES:Esports World Cup 2026 China Qualifier
STATUS:CONFIRMED
END:VEVENT
BEGIN:VEVENT
UID:12443@todolol.com
DTSTAMP:20260422T135247Z
DTSTART:20260521T070000Z
DTEND:20260521T100000Z
SUMMARY:Weibo Gaming vs Bilibili Gaming
DESCRIPTION:Esports World Cup 2026 China Qualifier · BO3\\nMás info: http:/
 /localhost:4321/calendario?liga=esports-world-cup-2026-china
CATEGORIES:Esports World Cup 2026 China Qualifier
STATUS:TENTATIVE
END:VEVENT
BEGIN:VEVENT
UID:12444@todolol.com
DTSTAMP:20260422T135247Z
DTSTART:20260521T090000Z
DTEND:20260521T130000Z
SUMMARY:JD Gaming vs AG.AL International
DESCRIPTION:Esports World Cup 2026 China Qualifier · BO5\\nMás info: http:/
 /localhost:4321/calendario?liga=esports-world-cup-2026-china
CATEGORIES:Esports World Cup 2026 China Qualifier
STATUS:TENTATIVE
END:VEVENT
END:VCALENDAR
