BEGIN:VCALENDAR
VERSION:2.0
PRODID:-//TodoLoL//Matches ESPORTS-WORLD-CUP-2026-NORTH-AMERICA//ES
CALSCALE:GREGORIAN
METHOD:PUBLISH
NAME:TodoLoL — ESPORTS-WORLD-CUP-2026-NORTH-AMERICA
X-WR-CALNAME:TodoLoL — ESPORTS-WORLD-CUP-2026-NORTH-AMERICA
X-WR-CALDESC:Calendario oficial de partidos de la ESPORTS-WORLD-CUP-2026-NO
 RTH-AMERICA en TodoLoL
X-WR-TIMEZONE:UTC
REFRESH-INTERVAL;VALUE=DURATION:PT1H
X-PUBLISHED-TTL:PT1H
BEGIN:VEVENT
UID:12481@todolol.com
DTSTAMP:20260422T135320Z
DTSTART:20260415T180000Z
DTEND:20260415T210000Z
SUMMARY:Cloud9 vs Dignitas
DESCRIPTION:Esports World Cup 2026 North America Qualifier · BO3\\nMás info
 : http://localhost:4321/calendario?liga=esports-world-cup-2026-north-americ
 a
CATEGORIES:Esports World Cup 2026 North America Qualifier
STATUS:CONFIRMED
END:VEVENT
BEGIN:VEVENT
UID:12482@todolol.com
DTSTAMP:20260422T135320Z
DTSTART:20260415T190000Z
DTEND:20260415T220000Z
SUMMARY:Sentinels vs Disguised
DESCRIPTION:Esports World Cup 2026 North America Qualifier · BO3\\nMás info
 : http://localhost:4321/calendario?liga=esports-world-cup-2026-north-americ
 a
CATEGORIES:Esports World Cup 2026 North America Qualifier
STATUS:CONFIRMED
END:VEVENT
BEGIN:VEVENT
UID:12483@todolol.com
DTSTAMP:20260422T135320Z
DTSTART:20260416T180000Z
DTEND:20260416T210000Z
SUMMARY:Shopify Rebellion vs Team Liquid
DESCRIPTION:Esports World Cup 2026 North America Qualifier · BO3\\nMás info
 : http://localhost:4321/calendario?liga=esports-world-cup-2026-north-americ
 a
CATEGORIES:Esports World Cup 2026 North America Qualifier
STATUS:CONFIRMED
END:VEVENT
BEGIN:VEVENT
UID:12484@todolol.com
DTSTAMP:20260422T135320Z
DTSTART:20260416T194500Z
DTEND:20260416T224500Z
SUMMARY:Dignitas vs Disguised
DESCRIPTION:Esports World Cup 2026 North America Qualifier · BO3\\nMás info
 : http://localhost:4321/calendario?liga=esports-world-cup-2026-north-americ
 a
CATEGORIES:Esports World Cup 2026 North America Qualifier
STATUS:CONFIRMED
END:VEVENT
BEGIN:VEVENT
UID:12485@todolol.com
DTSTAMP:20260422T135320Z
DTSTART:20260421T180000Z
DTEND:20260421T210000Z
SUMMARY:LYON vs FlyQuest
DESCRIPTION:Esports World Cup 2026 North America Qualifier · BO3\\nMás info
 : http://localhost:4321/calendario?liga=esports-world-cup-2026-north-americ
 a
CATEGORIES:Esports World Cup 2026 North America Qualifier
STATUS:CONFIRMED
END:VEVENT
BEGIN:VEVENT
UID:12486@todolol.com
DTSTAMP:20260422T135320Z
DTSTART:20260421T200000Z
DTEND:20260421T230000Z
SUMMARY:Cloud9 vs Sentinels
DESCRIPTION:Esports World Cup 2026 North America Qualifier · BO3\\nMás info
 : http://localhost:4321/calendario?liga=esports-world-cup-2026-north-americ
 a
CATEGORIES:Esports World Cup 2026 North America Qualifier
STATUS:CONFIRMED
END:VEVENT
BEGIN:VEVENT
UID:12487@todolol.com
DTSTAMP:20260422T135320Z
DTSTART:20260422T180000Z
DTEND:20260422T210000Z
SUMMARY:Cloud9 vs Team Liquid
DESCRIPTION:Esports World Cup 2026 North America Qualifier · BO3\\nMás info
 : http://localhost:4321/calendario?liga=esports-world-cup-2026-north-americ
 a
CATEGORIES:Esports World Cup 2026 North America Qualifier
STATUS:TENTATIVE
END:VEVENT
BEGIN:VEVENT
UID:12488@todolol.com
DTSTAMP:20260422T135320Z
DTSTART:20260422T210000Z
DTEND:20260423T000000Z
SUMMARY:LYON vs Disguised
DESCRIPTION:Esports World Cup 2026 North America Qualifier · BO3\\nMás info
 : http://localhost:4321/calendario?liga=esports-world-cup-2026-north-americ
 a
CATEGORIES:Esports World Cup 2026 North America Qualifier
STATUS:TENTATIVE
END:VEVENT
BEGIN:VEVENT
UID:12490@todolol.com
DTSTAMP:20260422T135320Z
DTSTART:20260423T180000Z
DTEND:20260423T210000Z
SUMMARY:FlyQuest vs Sentinels
DESCRIPTION:Esports World Cup 2026 North America Qualifier · BO3\\nMás info
 : http://localhost:4321/calendario?liga=esports-world-cup-2026-north-americ
 a
CATEGORIES:Esports World Cup 2026 North America Qualifier
STATUS:TENTATIVE
END:VEVENT
END:VCALENDAR
