BEGIN:VCALENDAR
VERSION:2.0
PRODID:-//TodoLoL//Matches LCK//ES
CALSCALE:GREGORIAN
METHOD:PUBLISH
NAME:TodoLoL — LCK
X-WR-CALNAME:TodoLoL — LCK
X-WR-CALDESC:Calendario oficial de partidos de la LCK en TodoLoL
X-WR-TIMEZONE:UTC
REFRESH-INTERVAL;VALUE=DURATION:PT1H
X-PUBLISHED-TTL:PT1H
BEGIN:VEVENT
UID:12563@todolol.com
DTSTAMP:20260422T120438Z
DTSTART:20260416T080000Z
DTEND:20260416T110000Z
SUMMARY:BRION vs Gen.G Esports
DESCRIPTION:LCK · BO3\\nFase: Rounds 1-2\\nMás info: http://localhost:4321/
 calendario?liga=lck
CATEGORIES:LCK
STATUS:CONFIRMED
END:VEVENT
BEGIN:VEVENT
UID:12564@todolol.com
DTSTAMP:20260422T120438Z
DTSTART:20260416T100400Z
DTEND:20260416T130400Z
SUMMARY:SOOPers vs Hanwha Life Esports
DESCRIPTION:LCK · BO3\\nFase: Rounds 1-2\\nMás info: http://localhost:4321/
 calendario?liga=lck
CATEGORIES:LCK
STATUS:CONFIRMED
END:VEVENT
BEGIN:VEVENT
UID:12565@todolol.com
DTSTAMP:20260422T120438Z
DTSTART:20260417T080000Z
DTEND:20260417T110000Z
SUMMARY:DRX vs FEARX
DESCRIPTION:LCK · BO3\\nFase: Rounds 1-2\\nMás info: http://localhost:4321/
 calendario?liga=lck
CATEGORIES:LCK
STATUS:CONFIRMED
END:VEVENT
BEGIN:VEVENT
UID:12566@todolol.com
DTSTAMP:20260422T120438Z
DTSTART:20260417T100000Z
DTEND:20260417T130000Z
SUMMARY:Dplus vs T1
DESCRIPTION:LCK · BO3\\nFase: Rounds 1-2\\nMás info: http://localhost:4321/
 calendario?liga=lck
CATEGORIES:LCK
STATUS:CONFIRMED
END:VEVENT
BEGIN:VEVENT
UID:12567@todolol.com
DTSTAMP:20260422T120438Z
DTSTART:20260418T080000Z
DTEND:20260418T110000Z
SUMMARY:Hanwha Life Esports vs Gen.G Esports
DESCRIPTION:LCK · BO3\\nFase: Rounds 1-2\\nMás info: http://localhost:4321/
 calendario?liga=lck
CATEGORIES:LCK
STATUS:CONFIRMED
END:VEVENT
BEGIN:VEVENT
UID:12568@todolol.com
DTSTAMP:20260422T120438Z
DTSTART:20260418T100400Z
DTEND:20260418T130400Z
SUMMARY:SOOPers vs KT Rolster
DESCRIPTION:LCK · BO3\\nFase: Rounds 1-2\\nMás info: http://localhost:4321/
 calendario?liga=lck
CATEGORIES:LCK
STATUS:CONFIRMED
END:VEVENT
BEGIN:VEVENT
UID:12569@todolol.com
DTSTAMP:20260422T120438Z
DTSTART:20260419T080000Z
DTEND:20260419T110000Z
SUMMARY:BRION vs Nongshim RedForce
DESCRIPTION:LCK · BO3\\nFase: Rounds 1-2\\nMás info: http://localhost:4321/
 calendario?liga=lck
CATEGORIES:LCK
STATUS:CONFIRMED
END:VEVENT
BEGIN:VEVENT
UID:12570@todolol.com
DTSTAMP:20260422T120438Z
DTSTART:20260419T110700Z
DTEND:20260419T140700Z
SUMMARY:DRX vs T1
DESCRIPTION:LCK · BO3\\nFase: Rounds 1-2\\nMás info: http://localhost:4321/
 calendario?liga=lck
CATEGORIES:LCK
STATUS:CONFIRMED
END:VEVENT
BEGIN:VEVENT
UID:12571@todolol.com
DTSTAMP:20260422T120438Z
DTSTART:20260422T080000Z
DTEND:20260422T110000Z
SUMMARY:KT Rolster vs DRX
DESCRIPTION:LCK · BO3\\nFase: Rounds 1-2\\nMás info: http://localhost:4321/
 calendario?liga=lck
CATEGORIES:LCK
STATUS:CONFIRMED
END:VEVENT
BEGIN:VEVENT
UID:12572@todolol.com
DTSTAMP:20260422T120438Z
DTSTART:20260422T100000Z
DTEND:20260422T130000Z
SUMMARY:Hanwha Life Esports vs Nongshim RedForce
DESCRIPTION:LCK · BO3\\nFase: Rounds 1-2\\nMás info: http://localhost:4321/
 calendario?liga=lck
CATEGORIES:LCK
STATUS:TENTATIVE
END:VEVENT
BEGIN:VEVENT
UID:12573@todolol.com
DTSTAMP:20260422T120438Z
DTSTART:20260423T080000Z
DTEND:20260423T110000Z
SUMMARY:BRION vs Dplus
DESCRIPTION:LCK · BO3\\nFase: Rounds 1-2\\nMás info: http://localhost:4321/
 calendario?liga=lck
CATEGORIES:LCK
STATUS:TENTATIVE
END:VEVENT
BEGIN:VEVENT
UID:12574@todolol.com
DTSTAMP:20260422T120438Z
DTSTART:20260423T100000Z
DTEND:20260423T130000Z
SUMMARY:Gen.G Esports vs SOOPers
DESCRIPTION:LCK · BO3\\nFase: Rounds 1-2\\nMás info: http://localhost:4321/
 calendario?liga=lck
CATEGORIES:LCK
STATUS:TENTATIVE
END:VEVENT
BEGIN:VEVENT
UID:12575@todolol.com
DTSTAMP:20260422T120438Z
DTSTART:20260424T080000Z
DTEND:20260424T110000Z
SUMMARY:FEARX vs KT Rolster
DESCRIPTION:LCK · BO3\\nFase: Rounds 1-2\\nMás info: http://localhost:4321/
 calendario?liga=lck
CATEGORIES:LCK
STATUS:TENTATIVE
END:VEVENT
BEGIN:VEVENT
UID:12576@todolol.com
DTSTAMP:20260422T120438Z
DTSTART:20260424T100000Z
DTEND:20260424T130000Z
SUMMARY:Hanwha Life Esports vs DRX
DESCRIPTION:LCK · BO3\\nFase: Rounds 1-2\\nMás info: http://localhost:4321/
 calendario?liga=lck
CATEGORIES:LCK
STATUS:TENTATIVE
END:VEVENT
BEGIN:VEVENT
UID:12577@todolol.com
DTSTAMP:20260422T120438Z
DTSTART:20260425T080000Z
DTEND:20260425T110000Z
SUMMARY:T1 vs BRION
DESCRIPTION:LCK · BO3\\nFase: Rounds 1-2\\nMás info: http://localhost:4321/
 calendario?liga=lck
CATEGORIES:LCK
STATUS:TENTATIVE
END:VEVENT
BEGIN:VEVENT
UID:12578@todolol.com
DTSTAMP:20260422T120438Z
DTSTART:20260425T100000Z
DTEND:20260425T130000Z
SUMMARY:Dplus vs SOOPers
DESCRIPTION:LCK · BO3\\nFase: Rounds 1-2\\nMás info: http://localhost:4321/
 calendario?liga=lck
CATEGORIES:LCK
STATUS:TENTATIVE
END:VEVENT
BEGIN:VEVENT
UID:12579@todolol.com
DTSTAMP:20260422T120438Z
DTSTART:20260426T080000Z
DTEND:20260426T110000Z
SUMMARY:T1 vs FEARX
DESCRIPTION:LCK · BO3\\nFase: Rounds 1-2\\nMás info: http://localhost:4321/
 calendario?liga=lck
CATEGORIES:LCK
STATUS:TENTATIVE
END:VEVENT
BEGIN:VEVENT
UID:12580@todolol.com
DTSTAMP:20260422T120438Z
DTSTART:20260426T100000Z
DTEND:20260426T130000Z
SUMMARY:Nongshim RedForce vs Gen.G Esports
DESCRIPTION:LCK · BO3\\nFase: Rounds 1-2\\nMás info: http://localhost:4321/
 calendario?liga=lck
CATEGORIES:LCK
STATUS:TENTATIVE
END:VEVENT
BEGIN:VEVENT
UID:12581@todolol.com
DTSTAMP:20260422T120438Z
DTSTART:20260429T080000Z
DTEND:20260429T110000Z
SUMMARY:Nongshim RedForce vs T1
DESCRIPTION:LCK · BO3\\nFase: Rounds 1-2\\nMás info: http://localhost:4321/
 calendario?liga=lck
CATEGORIES:LCK
STATUS:TENTATIVE
END:VEVENT
BEGIN:VEVENT
UID:12582@todolol.com
DTSTAMP:20260422T120438Z
DTSTART:20260429T100000Z
DTEND:20260429T130000Z
SUMMARY:KT Rolster vs Hanwha Life Esports
DESCRIPTION:LCK · BO3\\nFase: Rounds 1-2\\nMás info: http://localhost:4321/
 calendario?liga=lck
CATEGORIES:LCK
STATUS:TENTATIVE
END:VEVENT
BEGIN:VEVENT
UID:12583@todolol.com
DTSTAMP:20260422T120438Z
DTSTART:20260430T080000Z
DTEND:20260430T110000Z
SUMMARY:Gen.G Esports vs DRX
DESCRIPTION:LCK · BO3\\nFase: Rounds 1-2\\nMás info: http://localhost:4321/
 calendario?liga=lck
CATEGORIES:LCK
STATUS:TENTATIVE
END:VEVENT
BEGIN:VEVENT
UID:12584@todolol.com
DTSTAMP:20260422T120438Z
DTSTART:20260430T100000Z
DTEND:20260430T130000Z
SUMMARY:FEARX vs Dplus
DESCRIPTION:LCK · BO3\\nFase: Rounds 1-2\\nMás info: http://localhost:4321/
 calendario?liga=lck
CATEGORIES:LCK
STATUS:TENTATIVE
END:VEVENT
BEGIN:VEVENT
UID:12585@todolol.com
DTSTAMP:20260422T120438Z
DTSTART:20260501T080000Z
DTEND:20260501T110000Z
SUMMARY:SOOPers vs BRION
DESCRIPTION:LCK · BO3\\nFase: Rounds 1-2\\nMás info: http://localhost:4321/
 calendario?liga=lck
CATEGORIES:LCK
STATUS:TENTATIVE
END:VEVENT
BEGIN:VEVENT
UID:12586@todolol.com
DTSTAMP:20260422T120438Z
DTSTART:20260501T100000Z
DTEND:20260501T130000Z
SUMMARY:Hanwha Life Esports vs T1
DESCRIPTION:LCK · BO3\\nFase: Rounds 1-2\\nMás info: http://localhost:4321/
 calendario?liga=lck
CATEGORIES:LCK
STATUS:TENTATIVE
END:VEVENT
BEGIN:VEVENT
UID:12587@todolol.com
DTSTAMP:20260422T120438Z
DTSTART:20260502T080000Z
DTEND:20260502T110000Z
SUMMARY:Gen.G Esports vs Dplus
DESCRIPTION:LCK · BO3\\nFase: Rounds 1-2\\nMás info: http://localhost:4321/
 calendario?liga=lck
CATEGORIES:LCK
STATUS:TENTATIVE
END:VEVENT
BEGIN:VEVENT
UID:12588@todolol.com
DTSTAMP:20260422T120438Z
DTSTART:20260502T100000Z
DTEND:20260502T130000Z
SUMMARY:DRX vs Nongshim RedForce
DESCRIPTION:LCK · BO3\\nFase: Rounds 1-2\\nMás info: http://localhost:4321/
 calendario?liga=lck
CATEGORIES:LCK
STATUS:TENTATIVE
END:VEVENT
BEGIN:VEVENT
UID:12545@todolol.com
DTSTAMP:20260422T120438Z
DTSTART:20260503T080000Z
DTEND:20260503T110000Z
SUMMARY:KT Rolster vs BRION
DESCRIPTION:LCK · BO3\\nFase: Rounds 1-2\\nMás info: http://localhost:4321/
 calendario?liga=lck
CATEGORIES:LCK
STATUS:TENTATIVE
END:VEVENT
BEGIN:VEVENT
UID:12589@todolol.com
DTSTAMP:20260422T120438Z
DTSTART:20260503T100000Z
DTEND:20260503T130000Z
SUMMARY:SOOPers vs FEARX
DESCRIPTION:LCK · BO3\\nFase: Rounds 1-2\\nMás info: http://localhost:4321/
 calendario?liga=lck
CATEGORIES:LCK
STATUS:TENTATIVE
END:VEVENT
BEGIN:VEVENT
UID:12590@todolol.com
DTSTAMP:20260422T120438Z
DTSTART:20260506T080000Z
DTEND:20260506T110000Z
SUMMARY:Gen.G Esports vs Nongshim RedForce
DESCRIPTION:LCK · BO3\\nFase: Rounds 1-2\\nMás info: http://localhost:4321/
 calendario?liga=lck
CATEGORIES:LCK
STATUS:TENTATIVE
END:VEVENT
BEGIN:VEVENT
UID:12591@todolol.com
DTSTAMP:20260422T120438Z
DTSTART:20260506T100000Z
DTEND:20260506T130000Z
SUMMARY:Hanwha Life Esports vs SOOPers
DESCRIPTION:LCK · BO3\\nFase: Rounds 1-2\\nMás info: http://localhost:4321/
 calendario?liga=lck
CATEGORIES:LCK
STATUS:TENTATIVE
END:VEVENT
BEGIN:VEVENT
UID:12592@todolol.com
DTSTAMP:20260422T120438Z
DTSTART:20260507T080000Z
DTEND:20260507T110000Z
SUMMARY:Dplus vs KT Rolster
DESCRIPTION:LCK · BO3\\nFase: Rounds 1-2\\nMás info: http://localhost:4321/
 calendario?liga=lck
CATEGORIES:LCK
STATUS:TENTATIVE
END:VEVENT
BEGIN:VEVENT
UID:12593@todolol.com
DTSTAMP:20260422T120438Z
DTSTART:20260507T100000Z
DTEND:20260507T130000Z
SUMMARY:BRION vs FEARX
DESCRIPTION:LCK · BO3\\nFase: Rounds 1-2\\nMás info: http://localhost:4321/
 calendario?liga=lck
CATEGORIES:LCK
STATUS:TENTATIVE
END:VEVENT
BEGIN:VEVENT
UID:12594@todolol.com
DTSTAMP:20260422T120438Z
DTSTART:20260508T080000Z
DTEND:20260508T110000Z
SUMMARY:T1 vs SOOPers
DESCRIPTION:LCK · BO3\\nFase: Rounds 1-2\\nMás info: http://localhost:4321/
 calendario?liga=lck
CATEGORIES:LCK
STATUS:TENTATIVE
END:VEVENT
BEGIN:VEVENT
UID:12595@todolol.com
DTSTAMP:20260422T120438Z
DTSTART:20260508T100000Z
DTEND:20260508T130000Z
SUMMARY:DRX vs Gen.G Esports
DESCRIPTION:LCK · BO3\\nFase: Rounds 1-2\\nMás info: http://localhost:4321/
 calendario?liga=lck
CATEGORIES:LCK
STATUS:TENTATIVE
END:VEVENT
BEGIN:VEVENT
UID:12596@todolol.com
DTSTAMP:20260422T120438Z
DTSTART:20260509T080000Z
DTEND:20260509T110000Z
SUMMARY:KT Rolster vs FEARX
DESCRIPTION:LCK · BO3\\nFase: Rounds 1-2\\nMás info: http://localhost:4321/
 calendario?liga=lck
CATEGORIES:LCK
STATUS:TENTATIVE
END:VEVENT
BEGIN:VEVENT
UID:12597@todolol.com
DTSTAMP:20260422T120438Z
DTSTART:20260509T100000Z
DTEND:20260509T130000Z
SUMMARY:Nongshim RedForce vs BRION
DESCRIPTION:LCK · BO3\\nFase: Rounds 1-2\\nMás info: http://localhost:4321/
 calendario?liga=lck
CATEGORIES:LCK
STATUS:TENTATIVE
END:VEVENT
BEGIN:VEVENT
UID:12598@todolol.com
DTSTAMP:20260422T120438Z
DTSTART:20260510T080000Z
DTEND:20260510T110000Z
SUMMARY:T1 vs Dplus
DESCRIPTION:LCK · BO3\\nFase: Rounds 1-2\\nMás info: http://localhost:4321/
 calendario?liga=lck
CATEGORIES:LCK
STATUS:TENTATIVE
END:VEVENT
BEGIN:VEVENT
UID:12599@todolol.com
DTSTAMP:20260422T120438Z
DTSTART:20260510T100000Z
DTEND:20260510T130000Z
SUMMARY:DRX vs Hanwha Life Esports
DESCRIPTION:LCK · BO3\\nFase: Rounds 1-2\\nMás info: http://localhost:4321/
 calendario?liga=lck
CATEGORIES:LCK
STATUS:TENTATIVE
END:VEVENT
BEGIN:VEVENT
UID:12600@todolol.com
DTSTAMP:20260422T120438Z
DTSTART:20260513T080000Z
DTEND:20260513T110000Z
SUMMARY:T1 vs Nongshim RedForce
DESCRIPTION:LCK · BO3\\nFase: Rounds 1-2\\nMás info: http://localhost:4321/
 calendario?liga=lck
CATEGORIES:LCK
STATUS:TENTATIVE
END:VEVENT
BEGIN:VEVENT
UID:12601@todolol.com
DTSTAMP:20260422T120438Z
DTSTART:20260513T100000Z
DTEND:20260513T130000Z
SUMMARY:SOOPers vs Dplus
DESCRIPTION:LCK · BO3\\nFase: Rounds 1-2\\nMás info: http://localhost:4321/
 calendario?liga=lck
CATEGORIES:LCK
STATUS:TENTATIVE
END:VEVENT
BEGIN:VEVENT
UID:12602@todolol.com
DTSTAMP:20260422T120438Z
DTSTART:20260514T080000Z
DTEND:20260514T110000Z
SUMMARY:FEARX vs Gen.G Esports
DESCRIPTION:LCK · BO3\\nFase: Rounds 1-2\\nMás info: http://localhost:4321/
 calendario?liga=lck
CATEGORIES:LCK
STATUS:TENTATIVE
END:VEVENT
BEGIN:VEVENT
UID:12603@todolol.com
DTSTAMP:20260422T120438Z
DTSTART:20260514T100000Z
DTEND:20260514T130000Z
SUMMARY:DRX vs KT Rolster
DESCRIPTION:LCK · BO3\\nFase: Rounds 1-2\\nMás info: http://localhost:4321/
 calendario?liga=lck
CATEGORIES:LCK
STATUS:TENTATIVE
END:VEVENT
BEGIN:VEVENT
UID:12604@todolol.com
DTSTAMP:20260422T120438Z
DTSTART:20260515T080000Z
DTEND:20260515T110000Z
SUMMARY:Hanwha Life Esports vs Dplus
DESCRIPTION:LCK · BO3\\nFase: Rounds 1-2\\nMás info: http://localhost:4321/
 calendario?liga=lck
CATEGORIES:LCK
STATUS:TENTATIVE
END:VEVENT
BEGIN:VEVENT
UID:12605@todolol.com
DTSTAMP:20260422T120438Z
DTSTART:20260515T100000Z
DTEND:20260515T130000Z
SUMMARY:BRION vs SOOPers
DESCRIPTION:LCK · BO3\\nFase: Rounds 1-2\\nMás info: http://localhost:4321/
 calendario?liga=lck
CATEGORIES:LCK
STATUS:TENTATIVE
END:VEVENT
BEGIN:VEVENT
UID:12606@todolol.com
DTSTAMP:20260422T120438Z
DTSTART:20260516T080000Z
DTEND:20260516T110000Z
SUMMARY:Gen.G Esports vs T1
DESCRIPTION:LCK · BO3\\nFase: Rounds 1-2\\nMás info: http://localhost:4321/
 calendario?liga=lck
CATEGORIES:LCK
STATUS:TENTATIVE
END:VEVENT
BEGIN:VEVENT
UID:12607@todolol.com
DTSTAMP:20260422T120438Z
DTSTART:20260516T100000Z
DTEND:20260516T130000Z
SUMMARY:FEARX vs Nongshim RedForce
DESCRIPTION:LCK · BO3\\nFase: Rounds 1-2\\nMás info: http://localhost:4321/
 calendario?liga=lck
CATEGORIES:LCK
STATUS:TENTATIVE
END:VEVENT
BEGIN:VEVENT
UID:12608@todolol.com
DTSTAMP:20260422T120438Z
DTSTART:20260517T080000Z
DTEND:20260517T110000Z
SUMMARY:Hanwha Life Esports vs KT Rolster
DESCRIPTION:LCK · BO3\\nFase: Rounds 1-2\\nMás info: http://localhost:4321/
 calendario?liga=lck
CATEGORIES:LCK
STATUS:TENTATIVE
END:VEVENT
BEGIN:VEVENT
UID:12609@todolol.com
DTSTAMP:20260422T120438Z
DTSTART:20260517T100000Z
DTEND:20260517T130000Z
SUMMARY:DRX vs BRION
DESCRIPTION:LCK · BO3\\nFase: Rounds 1-2\\nMás info: http://localhost:4321/
 calendario?liga=lck
CATEGORIES:LCK
STATUS:TENTATIVE
END:VEVENT
BEGIN:VEVENT
UID:12610@todolol.com
DTSTAMP:20260422T120438Z
DTSTART:20260520T080000Z
DTEND:20260520T110000Z
SUMMARY:T1 vs DRX
DESCRIPTION:LCK · BO3\\nFase: Rounds 1-2\\nMás info: http://localhost:4321/
 calendario?liga=lck
CATEGORIES:LCK
STATUS:TENTATIVE
END:VEVENT
BEGIN:VEVENT
UID:12611@todolol.com
DTSTAMP:20260422T120438Z
DTSTART:20260520T100000Z
DTEND:20260520T130000Z
SUMMARY:Nongshim RedForce vs KT Rolster
DESCRIPTION:LCK · BO3\\nFase: Rounds 1-2\\nMás info: http://localhost:4321/
 calendario?liga=lck
CATEGORIES:LCK
STATUS:TENTATIVE
END:VEVENT
BEGIN:VEVENT
UID:12612@todolol.com
DTSTAMP:20260422T120438Z
DTSTART:20260521T080000Z
DTEND:20260521T110000Z
SUMMARY:FEARX vs Hanwha Life Esports
DESCRIPTION:LCK · BO3\\nFase: Rounds 1-2\\nMás info: http://localhost:4321/
 calendario?liga=lck
CATEGORIES:LCK
STATUS:TENTATIVE
END:VEVENT
BEGIN:VEVENT
UID:12613@todolol.com
DTSTAMP:20260422T120438Z
DTSTART:20260521T100000Z
DTEND:20260521T130000Z
SUMMARY:Dplus vs BRION
DESCRIPTION:LCK · BO3\\nFase: Rounds 1-2\\nMás info: http://localhost:4321/
 calendario?liga=lck
CATEGORIES:LCK
STATUS:TENTATIVE
END:VEVENT
BEGIN:VEVENT
UID:12614@todolol.com
DTSTAMP:20260422T120438Z
DTSTART:20260522T080000Z
DTEND:20260522T110000Z
SUMMARY:SOOPers vs DRX
DESCRIPTION:LCK · BO3\\nFase: Rounds 1-2\\nMás info: http://localhost:4321/
 calendario?liga=lck
CATEGORIES:LCK
STATUS:TENTATIVE
END:VEVENT
BEGIN:VEVENT
UID:12615@todolol.com
DTSTAMP:20260422T120438Z
DTSTART:20260522T100000Z
DTEND:20260522T130000Z
SUMMARY:KT Rolster vs Gen.G Esports
DESCRIPTION:LCK · BO3\\nFase: Rounds 1-2\\nMás info: http://localhost:4321/
 calendario?liga=lck
CATEGORIES:LCK
STATUS:TENTATIVE
END:VEVENT
BEGIN:VEVENT
UID:12616@todolol.com
DTSTAMP:20260422T120438Z
DTSTART:20260523T080000Z
DTEND:20260523T110000Z
SUMMARY:Dplus vs FEARX
DESCRIPTION:LCK · BO3\\nFase: Rounds 1-2\\nMás info: http://localhost:4321/
 calendario?liga=lck
CATEGORIES:LCK
STATUS:TENTATIVE
END:VEVENT
BEGIN:VEVENT
UID:12617@todolol.com
DTSTAMP:20260422T120438Z
DTSTART:20260523T100000Z
DTEND:20260523T130000Z
SUMMARY:Nongshim RedForce vs Hanwha Life Esports
DESCRIPTION:LCK · BO3\\nFase: Rounds 1-2\\nMás info: http://localhost:4321/
 calendario?liga=lck
CATEGORIES:LCK
STATUS:TENTATIVE
END:VEVENT
BEGIN:VEVENT
UID:12618@todolol.com
DTSTAMP:20260422T120438Z
DTSTART:20260524T080000Z
DTEND:20260524T110000Z
SUMMARY:SOOPers vs Gen.G Esports
DESCRIPTION:LCK · BO3\\nFase: Rounds 1-2\\nMás info: http://localhost:4321/
 calendario?liga=lck
CATEGORIES:LCK
STATUS:TENTATIVE
END:VEVENT
BEGIN:VEVENT
UID:12619@todolol.com
DTSTAMP:20260422T120438Z
DTSTART:20260524T100000Z
DTEND:20260524T130000Z
SUMMARY:BRION vs T1
DESCRIPTION:LCK · BO3\\nFase: Rounds 1-2\\nMás info: http://localhost:4321/
 calendario?liga=lck
CATEGORIES:LCK
STATUS:TENTATIVE
END:VEVENT
BEGIN:VEVENT
UID:12620@todolol.com
DTSTAMP:20260422T120438Z
DTSTART:20260527T080000Z
DTEND:20260527T110000Z
SUMMARY:Gen.G Esports vs Hanwha Life Esports
DESCRIPTION:LCK · BO3\\nFase: Rounds 1-2\\nMás info: http://localhost:4321/
 calendario?liga=lck
CATEGORIES:LCK
STATUS:TENTATIVE
END:VEVENT
BEGIN:VEVENT
UID:12621@todolol.com
DTSTAMP:20260422T120438Z
DTSTART:20260527T100000Z
DTEND:20260527T130000Z
SUMMARY:FEARX vs DRX
DESCRIPTION:LCK · BO3\\nFase: Rounds 1-2\\nMás info: http://localhost:4321/
 calendario?liga=lck
CATEGORIES:LCK
STATUS:TENTATIVE
END:VEVENT
BEGIN:VEVENT
UID:12622@todolol.com
DTSTAMP:20260422T120438Z
DTSTART:20260528T080000Z
DTEND:20260528T110000Z
SUMMARY:SOOPers vs Nongshim RedForce
DESCRIPTION:LCK · BO3\\nFase: Rounds 1-2\\nMás info: http://localhost:4321/
 calendario?liga=lck
CATEGORIES:LCK
STATUS:TENTATIVE
END:VEVENT
BEGIN:VEVENT
UID:12623@todolol.com
DTSTAMP:20260422T120438Z
DTSTART:20260528T100000Z
DTEND:20260528T130000Z
SUMMARY:KT Rolster vs T1
DESCRIPTION:LCK · BO3\\nFase: Rounds 1-2\\nMás info: http://localhost:4321/
 calendario?liga=lck
CATEGORIES:LCK
STATUS:TENTATIVE
END:VEVENT
BEGIN:VEVENT
UID:12624@todolol.com
DTSTAMP:20260422T120438Z
DTSTART:20260529T080000Z
DTEND:20260529T110000Z
SUMMARY:Dplus vs DRX
DESCRIPTION:LCK · BO3\\nFase: Rounds 1-2\\nMás info: http://localhost:4321/
 calendario?liga=lck
CATEGORIES:LCK
STATUS:TENTATIVE
END:VEVENT
BEGIN:VEVENT
UID:12625@todolol.com
DTSTAMP:20260422T120438Z
DTSTART:20260529T100000Z
DTEND:20260529T130000Z
SUMMARY:Gen.G Esports vs BRION
DESCRIPTION:LCK · BO3\\nFase: Rounds 1-2\\nMás info: http://localhost:4321/
 calendario?liga=lck
CATEGORIES:LCK
STATUS:TENTATIVE
END:VEVENT
BEGIN:VEVENT
UID:12626@todolol.com
DTSTAMP:20260422T120438Z
DTSTART:20260530T080000Z
DTEND:20260530T110000Z
SUMMARY:KT Rolster vs SOOPers
DESCRIPTION:LCK · BO3\\nFase: Rounds 1-2\\nMás info: http://localhost:4321/
 calendario?liga=lck
CATEGORIES:LCK
STATUS:TENTATIVE
END:VEVENT
BEGIN:VEVENT
UID:12627@todolol.com
DTSTAMP:20260422T120438Z
DTSTART:20260530T100000Z
DTEND:20260530T130000Z
SUMMARY:FEARX vs T1
DESCRIPTION:LCK · BO3\\nFase: Rounds 1-2\\nMás info: http://localhost:4321/
 calendario?liga=lck
CATEGORIES:LCK
STATUS:TENTATIVE
END:VEVENT
BEGIN:VEVENT
UID:12628@todolol.com
DTSTAMP:20260422T120438Z
DTSTART:20260531T080000Z
DTEND:20260531T110000Z
SUMMARY:BRION vs Hanwha Life Esports
DESCRIPTION:LCK · BO3\\nFase: Rounds 1-2\\nMás info: http://localhost:4321/
 calendario?liga=lck
CATEGORIES:LCK
STATUS:TENTATIVE
END:VEVENT
BEGIN:VEVENT
UID:12629@todolol.com
DTSTAMP:20260422T120438Z
DTSTART:20260531T100000Z
DTEND:20260531T130000Z
SUMMARY:Nongshim RedForce vs Dplus
DESCRIPTION:LCK · BO3\\nFase: Rounds 1-2\\nMás info: http://localhost:4321/
 calendario?liga=lck
CATEGORIES:LCK
STATUS:TENTATIVE
END:VEVENT
END:VCALENDAR
