BEGIN:VCALENDAR
VERSION:2.0
PRODID:-//TodoLoL//Matches LCP//ES
CALSCALE:GREGORIAN
METHOD:PUBLISH
NAME:TodoLoL — LCP
X-WR-CALNAME:TodoLoL — LCP
X-WR-CALDESC:Calendario oficial de partidos de la LCP en TodoLoL
X-WR-TIMEZONE:UTC
REFRESH-INTERVAL;VALUE=DURATION:PT1H
X-PUBLISHED-TTL:PT1H
BEGIN:VEVENT
UID:12096@todolol.com
DTSTAMP:20260422T134617Z
DTSTART:20260418T090000Z
DTEND:20260418T120000Z
SUMMARY:CTBC Flying Oyster vs Deep Cross Gaming
DESCRIPTION:LCP · BO3\\nFase: Regular Season\\nMás info: http://localhost:4
 321/calendario?liga=lcp
CATEGORIES:LCP
STATUS:CONFIRMED
END:VEVENT
BEGIN:VEVENT
UID:12097@todolol.com
DTSTAMP:20260422T134617Z
DTSTART:20260418T113000Z
DTEND:20260418T143000Z
SUMMARY:DetonatioN FocusMe vs MVK Esports
DESCRIPTION:LCP · BO3\\nFase: Regular Season\\nMás info: http://localhost:4
 321/calendario?liga=lcp
CATEGORIES:LCP
STATUS:CONFIRMED
END:VEVENT
BEGIN:VEVENT
UID:12098@todolol.com
DTSTAMP:20260422T134617Z
DTSTART:20260419T090000Z
DTEND:20260419T120000Z
SUMMARY:Secret Whales vs SoftBank HAWKS gaming
DESCRIPTION:LCP · BO3\\nFase: Regular Season\\nMás info: http://localhost:4
 321/calendario?liga=lcp
CATEGORIES:LCP
STATUS:CONFIRMED
END:VEVENT
BEGIN:VEVENT
UID:12099@todolol.com
DTSTAMP:20260422T134617Z
DTSTART:20260419T110000Z
DTEND:20260419T140000Z
SUMMARY:GAM Esports vs Ground Zero Gaming
DESCRIPTION:LCP · BO3\\nFase: Regular Season\\nMás info: http://localhost:4
 321/calendario?liga=lcp
CATEGORIES:LCP
STATUS:CONFIRMED
END:VEVENT
BEGIN:VEVENT
UID:12100@todolol.com
DTSTAMP:20260422T134617Z
DTSTART:20260425T090000Z
DTEND:20260425T120000Z
SUMMARY:DetonatioN FocusMe vs GAM Esports
DESCRIPTION:LCP · BO3\\nFase: Regular Season\\nMás info: http://localhost:4
 321/calendario?liga=lcp
CATEGORIES:LCP
STATUS:TENTATIVE
END:VEVENT
BEGIN:VEVENT
UID:12101@todolol.com
DTSTAMP:20260422T134617Z
DTSTART:20260425T113000Z
DTEND:20260425T143000Z
SUMMARY:Secret Whales vs Ground Zero Gaming
DESCRIPTION:LCP · BO3\\nFase: Regular Season\\nMás info: http://localhost:4
 321/calendario?liga=lcp
CATEGORIES:LCP
STATUS:TENTATIVE
END:VEVENT
BEGIN:VEVENT
UID:12102@todolol.com
DTSTAMP:20260422T134617Z
DTSTART:20260426T090000Z
DTEND:20260426T120000Z
SUMMARY:SoftBank HAWKS gaming vs Deep Cross Gaming
DESCRIPTION:LCP · BO3\\nFase: Regular Season\\nMás info: http://localhost:4
 321/calendario?liga=lcp
CATEGORIES:LCP
STATUS:TENTATIVE
END:VEVENT
BEGIN:VEVENT
UID:12103@todolol.com
DTSTAMP:20260422T134617Z
DTSTART:20260426T113000Z
DTEND:20260426T143000Z
SUMMARY:MVK Esports vs CTBC Flying Oyster
DESCRIPTION:LCP · BO3\\nFase: Regular Season\\nMás info: http://localhost:4
 321/calendario?liga=lcp
CATEGORIES:LCP
STATUS:TENTATIVE
END:VEVENT
BEGIN:VEVENT
UID:12104@todolol.com
DTSTAMP:20260422T134617Z
DTSTART:20260502T090000Z
DTEND:20260502T120000Z
SUMMARY:MVK Esports vs Ground Zero Gaming
DESCRIPTION:LCP · BO3\\nFase: Regular Season\\nMás info: http://localhost:4
 321/calendario?liga=lcp
CATEGORIES:LCP
STATUS:TENTATIVE
END:VEVENT
BEGIN:VEVENT
UID:12105@todolol.com
DTSTAMP:20260422T134617Z
DTSTART:20260502T113000Z
DTEND:20260502T143000Z
SUMMARY:GAM Esports vs Deep Cross Gaming
DESCRIPTION:LCP · BO3\\nFase: Regular Season\\nMás info: http://localhost:4
 321/calendario?liga=lcp
CATEGORIES:LCP
STATUS:TENTATIVE
END:VEVENT
BEGIN:VEVENT
UID:12106@todolol.com
DTSTAMP:20260422T134617Z
DTSTART:20260503T090000Z
DTEND:20260503T120000Z
SUMMARY:SoftBank HAWKS gaming vs DetonatioN FocusMe
DESCRIPTION:LCP · BO3\\nFase: Regular Season\\nMás info: http://localhost:4
 321/calendario?liga=lcp
CATEGORIES:LCP
STATUS:TENTATIVE
END:VEVENT
BEGIN:VEVENT
UID:12107@todolol.com
DTSTAMP:20260422T134617Z
DTSTART:20260503T113000Z
DTEND:20260503T143000Z
SUMMARY:CTBC Flying Oyster vs Secret Whales
DESCRIPTION:LCP · BO3\\nFase: Regular Season\\nMás info: http://localhost:4
 321/calendario?liga=lcp
CATEGORIES:LCP
STATUS:TENTATIVE
END:VEVENT
BEGIN:VEVENT
UID:12110@todolol.com
DTSTAMP:20260422T134617Z
DTSTART:20260509T090000Z
DTEND:20260509T120000Z
SUMMARY:Ground Zero Gaming vs CTBC Flying Oyster
DESCRIPTION:LCP · BO3\\nFase: Regular Season\\nMás info: http://localhost:4
 321/calendario?liga=lcp
CATEGORIES:LCP
STATUS:TENTATIVE
END:VEVENT
BEGIN:VEVENT
UID:12111@todolol.com
DTSTAMP:20260422T134617Z
DTSTART:20260509T113000Z
DTEND:20260509T143000Z
SUMMARY:Secret Whales vs MVK Esports
DESCRIPTION:LCP · BO3\\nFase: Regular Season\\nMás info: http://localhost:4
 321/calendario?liga=lcp
CATEGORIES:LCP
STATUS:TENTATIVE
END:VEVENT
BEGIN:VEVENT
UID:12112@todolol.com
DTSTAMP:20260422T134617Z
DTSTART:20260510T090000Z
DTEND:20260510T120000Z
SUMMARY:DetonatioN FocusMe vs Deep Cross Gaming
DESCRIPTION:LCP · BO3\\nFase: Regular Season\\nMás info: http://localhost:4
 321/calendario?liga=lcp
CATEGORIES:LCP
STATUS:TENTATIVE
END:VEVENT
BEGIN:VEVENT
UID:12113@todolol.com
DTSTAMP:20260422T134617Z
DTSTART:20260510T113000Z
DTEND:20260510T143000Z
SUMMARY:SoftBank HAWKS gaming vs GAM Esports
DESCRIPTION:LCP · BO3\\nFase: Regular Season\\nMás info: http://localhost:4
 321/calendario?liga=lcp
CATEGORIES:LCP
STATUS:TENTATIVE
END:VEVENT
BEGIN:VEVENT
UID:12630@todolol.com
DTSTAMP:20260422T134617Z
DTSTART:20260516T090000Z
DTEND:20260516T120000Z
SUMMARY:Deep Cross Gaming vs Ground Zero Gaming
DESCRIPTION:LCP · BO3\\nFase: Regular Season\\nMás info: http://localhost:4
 321/calendario?liga=lcp
CATEGORIES:LCP
STATUS:TENTATIVE
END:VEVENT
BEGIN:VEVENT
UID:12633@todolol.com
DTSTAMP:20260422T134617Z
DTSTART:20260516T113000Z
DTEND:20260516T143000Z
SUMMARY:MVK Esports vs SoftBank HAWKS gaming
DESCRIPTION:LCP · BO3\\nFase: Regular Season\\nMás info: http://localhost:4
 321/calendario?liga=lcp
CATEGORIES:LCP
STATUS:TENTATIVE
END:VEVENT
BEGIN:VEVENT
UID:12636@todolol.com
DTSTAMP:20260422T134617Z
DTSTART:20260517T090000Z
DTEND:20260517T120000Z
SUMMARY:DetonatioN FocusMe vs Secret Whales
DESCRIPTION:LCP · BO3\\nFase: Regular Season\\nMás info: http://localhost:4
 321/calendario?liga=lcp
CATEGORIES:LCP
STATUS:TENTATIVE
END:VEVENT
BEGIN:VEVENT
UID:12639@todolol.com
DTSTAMP:20260422T134617Z
DTSTART:20260517T113000Z
DTEND:20260517T143000Z
SUMMARY:GAM Esports vs CTBC Flying Oyster
DESCRIPTION:LCP · BO3\\nFase: Regular Season\\nMás info: http://localhost:4
 321/calendario?liga=lcp
CATEGORIES:LCP
STATUS:TENTATIVE
END:VEVENT
END:VCALENDAR
