BEGIN:VCALENDAR
VERSION:2.0
PRODID:-//TodoLoL//Matches LCS//ES
CALSCALE:GREGORIAN
METHOD:PUBLISH
NAME:TodoLoL — LCS
X-WR-CALNAME:TodoLoL — LCS
X-WR-CALDESC:Calendario oficial de partidos de la LCS en TodoLoL
X-WR-TIMEZONE:UTC
REFRESH-INTERVAL;VALUE=DURATION:PT1H
X-PUBLISHED-TTL:PT1H
BEGIN:VEVENT
UID:12514@todolol.com
DTSTAMP:20260422T134520Z
DTSTART:20260418T200000Z
DTEND:20260418T230000Z
SUMMARY:Disguised vs Cloud9
DESCRIPTION:LCS · BO3\\nFase: Regular Season\\nMás info: http://localhost:4
 321/calendario?liga=lcs
CATEGORIES:LCS
STATUS:CONFIRMED
END:VEVENT
BEGIN:VEVENT
UID:12515@todolol.com
DTSTAMP:20260422T134520Z
DTSTART:20260418T230000Z
DTEND:20260419T020000Z
SUMMARY:Sentinels vs FlyQuest
DESCRIPTION:LCS · BO3\\nFase: Regular Season\\nMás info: http://localhost:4
 321/calendario?liga=lcs
CATEGORIES:LCS
STATUS:CONFIRMED
END:VEVENT
BEGIN:VEVENT
UID:12516@todolol.com
DTSTAMP:20260422T134520Z
DTSTART:20260419T200000Z
DTEND:20260419T230000Z
SUMMARY:LYON vs Shopify Rebellion
DESCRIPTION:LCS · BO3\\nFase: Regular Season\\nMás info: http://localhost:4
 321/calendario?liga=lcs
CATEGORIES:LCS
STATUS:CONFIRMED
END:VEVENT
BEGIN:VEVENT
UID:12517@todolol.com
DTSTAMP:20260422T134520Z
DTSTART:20260419T220000Z
DTEND:20260420T010000Z
SUMMARY:Dignitas vs Team Liquid
DESCRIPTION:LCS · BO3\\nFase: Regular Season\\nMás info: http://localhost:4
 321/calendario?liga=lcs
CATEGORIES:LCS
STATUS:CONFIRMED
END:VEVENT
BEGIN:VEVENT
UID:12518@todolol.com
DTSTAMP:20260422T134520Z
DTSTART:20260425T200000Z
DTEND:20260425T230000Z
SUMMARY:FlyQuest vs Dignitas
DESCRIPTION:LCS · BO3\\nFase: Regular Season\\nMás info: http://localhost:4
 321/calendario?liga=lcs
CATEGORIES:LCS
STATUS:TENTATIVE
END:VEVENT
BEGIN:VEVENT
UID:12519@todolol.com
DTSTAMP:20260422T134520Z
DTSTART:20260425T230000Z
DTEND:20260426T020000Z
SUMMARY:Cloud9 vs Shopify Rebellion
DESCRIPTION:LCS · BO3\\nFase: Regular Season\\nMás info: http://localhost:4
 321/calendario?liga=lcs
CATEGORIES:LCS
STATUS:TENTATIVE
END:VEVENT
BEGIN:VEVENT
UID:12520@todolol.com
DTSTAMP:20260422T134520Z
DTSTART:20260426T200000Z
DTEND:20260426T230000Z
SUMMARY:LYON vs Disguised
DESCRIPTION:LCS · BO3\\nFase: Regular Season\\nMás info: http://localhost:4
 321/calendario?liga=lcs
CATEGORIES:LCS
STATUS:TENTATIVE
END:VEVENT
BEGIN:VEVENT
UID:12521@todolol.com
DTSTAMP:20260422T134520Z
DTSTART:20260426T230000Z
DTEND:20260427T020000Z
SUMMARY:Team Liquid vs Sentinels
DESCRIPTION:LCS · BO3\\nFase: Regular Season\\nMás info: http://localhost:4
 321/calendario?liga=lcs
CATEGORIES:LCS
STATUS:TENTATIVE
END:VEVENT
BEGIN:VEVENT
UID:12522@todolol.com
DTSTAMP:20260422T134520Z
DTSTART:20260502T200000Z
DTEND:20260502T230000Z
SUMMARY:Cloud9 vs Dignitas
DESCRIPTION:LCS · BO3\\nFase: Regular Season\\nMás info: http://localhost:4
 321/calendario?liga=lcs
CATEGORIES:LCS
STATUS:TENTATIVE
END:VEVENT
BEGIN:VEVENT
UID:12523@todolol.com
DTSTAMP:20260422T134520Z
DTSTART:20260502T230000Z
DTEND:20260503T020000Z
SUMMARY:Team Liquid vs Disguised
DESCRIPTION:LCS · BO3\\nFase: Regular Season\\nMás info: http://localhost:4
 321/calendario?liga=lcs
CATEGORIES:LCS
STATUS:TENTATIVE
END:VEVENT
BEGIN:VEVENT
UID:12524@todolol.com
DTSTAMP:20260422T134520Z
DTSTART:20260503T200000Z
DTEND:20260503T230000Z
SUMMARY:LYON vs Sentinels
DESCRIPTION:LCS · BO3\\nFase: Regular Season\\nMás info: http://localhost:4
 321/calendario?liga=lcs
CATEGORIES:LCS
STATUS:TENTATIVE
END:VEVENT
BEGIN:VEVENT
UID:12525@todolol.com
DTSTAMP:20260422T134520Z
DTSTART:20260503T230000Z
DTEND:20260504T020000Z
SUMMARY:FlyQuest vs Shopify Rebellion
DESCRIPTION:LCS · BO3\\nFase: Regular Season\\nMás info: http://localhost:4
 321/calendario?liga=lcs
CATEGORIES:LCS
STATUS:TENTATIVE
END:VEVENT
BEGIN:VEVENT
UID:12298@todolol.com
DTSTAMP:20260422T134520Z
DTSTART:20260509T200000Z
DTEND:20260509T230000Z
SUMMARY:Shopify Rebellion vs Sentinels
DESCRIPTION:LCS · BO3\\nFase: Regular Season\\nMás info: http://localhost:4
 321/calendario?liga=lcs
CATEGORIES:LCS
STATUS:TENTATIVE
END:VEVENT
BEGIN:VEVENT
UID:12299@todolol.com
DTSTAMP:20260422T134520Z
DTSTART:20260509T230000Z
DTEND:20260510T020000Z
SUMMARY:Disguised vs Dignitas
DESCRIPTION:LCS · BO3\\nFase: Regular Season\\nMás info: http://localhost:4
 321/calendario?liga=lcs
CATEGORIES:LCS
STATUS:TENTATIVE
END:VEVENT
BEGIN:VEVENT
UID:12300@todolol.com
DTSTAMP:20260422T134520Z
DTSTART:20260510T200000Z
DTEND:20260510T230000Z
SUMMARY:Cloud9 vs FlyQuest
DESCRIPTION:LCS · BO3\\nFase: Regular Season\\nMás info: http://localhost:4
 321/calendario?liga=lcs
CATEGORIES:LCS
STATUS:TENTATIVE
END:VEVENT
BEGIN:VEVENT
UID:12301@todolol.com
DTSTAMP:20260422T134520Z
DTSTART:20260510T230000Z
DTEND:20260511T020000Z
SUMMARY:LYON vs Team Liquid
DESCRIPTION:LCS · BO3\\nFase: Regular Season\\nMás info: http://localhost:4
 321/calendario?liga=lcs
CATEGORIES:LCS
STATUS:TENTATIVE
END:VEVENT
BEGIN:VEVENT
UID:12634@todolol.com
DTSTAMP:20260422T134520Z
DTSTART:20260516T200000Z
DTEND:20260516T230000Z
SUMMARY:Team Liquid vs Cloud9
DESCRIPTION:LCS · BO3\\nFase: Regular Season\\nMás info: http://localhost:4
 321/calendario?liga=lcs
CATEGORIES:LCS
STATUS:TENTATIVE
END:VEVENT
BEGIN:VEVENT
UID:12635@todolol.com
DTSTAMP:20260422T134520Z
DTSTART:20260516T230000Z
DTEND:20260517T020000Z
SUMMARY:Shopify Rebellion vs Disguised
DESCRIPTION:LCS · BO3\\nFase: Regular Season\\nMás info: http://localhost:4
 321/calendario?liga=lcs
CATEGORIES:LCS
STATUS:TENTATIVE
END:VEVENT
BEGIN:VEVENT
UID:12640@todolol.com
DTSTAMP:20260422T134520Z
DTSTART:20260517T200000Z
DTEND:20260517T230000Z
SUMMARY:Sentinels vs Dignitas
DESCRIPTION:LCS · BO3\\nFase: Regular Season\\nMás info: http://localhost:4
 321/calendario?liga=lcs
CATEGORIES:LCS
STATUS:TENTATIVE
END:VEVENT
BEGIN:VEVENT
UID:12641@todolol.com
DTSTAMP:20260422T134520Z
DTSTART:20260517T230000Z
DTEND:20260518T020000Z
SUMMARY:FlyQuest vs LYON
DESCRIPTION:LCS · BO3\\nFase: Regular Season\\nMás info: http://localhost:4
 321/calendario?liga=lcs
CATEGORIES:LCS
STATUS:TENTATIVE
END:VEVENT
END:VCALENDAR
