BEGIN:VCALENDAR
VERSION:2.0
PRODID:-//TodoLoL//Matches LEC//ES
CALSCALE:GREGORIAN
METHOD:PUBLISH
NAME:TodoLoL — LEC
X-WR-CALNAME:TodoLoL — LEC
X-WR-CALDESC:Calendario oficial de partidos de la LEC en TodoLoL
X-WR-TIMEZONE:UTC
REFRESH-INTERVAL;VALUE=DURATION:PT1H
X-PUBLISHED-TTL:PT1H
BEGIN:VEVENT
UID:11902@todolol.com
DTSTAMP:20260422T120434Z
DTSTART:20260418T150000Z
DTEND:20260418T180000Z
SUMMARY:GIANTX vs Natus Vincere
DESCRIPTION:LEC · BO3\\nFase: Regular Season\\nMás info: http://localhost:4
 321/calendario?liga=lec
CATEGORIES:LEC
STATUS:CONFIRMED
END:VEVENT
BEGIN:VEVENT
UID:11903@todolol.com
DTSTAMP:20260422T120434Z
DTSTART:20260418T173200Z
DTEND:20260418T203200Z
SUMMARY:G2 Esports vs SK Gaming
DESCRIPTION:LEC · BO3\\nFase: Regular Season\\nMás info: http://localhost:4
 321/calendario?liga=lec
CATEGORIES:LEC
STATUS:CONFIRMED
END:VEVENT
BEGIN:VEVENT
UID:11904@todolol.com
DTSTAMP:20260422T120434Z
DTSTART:20260419T150000Z
DTEND:20260419T180000Z
SUMMARY:Team Vitality vs GIANTX
DESCRIPTION:LEC · BO3\\nFase: Regular Season\\nMás info: http://localhost:4
 321/calendario?liga=lec
CATEGORIES:LEC
STATUS:CONFIRMED
END:VEVENT
BEGIN:VEVENT
UID:11905@todolol.com
DTSTAMP:20260422T120434Z
DTSTART:20260419T165200Z
DTEND:20260419T195200Z
SUMMARY:Team Heretics vs Movistar KOI
DESCRIPTION:LEC · BO3\\nFase: Regular Season\\nMás info: http://localhost:4
 321/calendario?liga=lec
CATEGORIES:LEC
STATUS:CONFIRMED
END:VEVENT
BEGIN:VEVENT
UID:11906@todolol.com
DTSTAMP:20260422T120434Z
DTSTART:20260420T150000Z
DTEND:20260420T180000Z
SUMMARY:Shifters vs G2 Esports
DESCRIPTION:LEC · BO3\\nFase: Regular Season\\nMás info: http://localhost:4
 321/calendario?liga=lec
CATEGORIES:LEC
STATUS:CONFIRMED
END:VEVENT
BEGIN:VEVENT
UID:11907@todolol.com
DTSTAMP:20260422T120434Z
DTSTART:20260420T171500Z
DTEND:20260420T201500Z
SUMMARY:SK Gaming vs Karmine Corp
DESCRIPTION:LEC · BO3\\nFase: Regular Season\\nMás info: http://localhost:4
 321/calendario?liga=lec
CATEGORIES:LEC
STATUS:CONFIRMED
END:VEVENT
BEGIN:VEVENT
UID:11908@todolol.com
DTSTAMP:20260422T120434Z
DTSTART:20260424T144500Z
DTEND:20260424T174500Z
SUMMARY:Shifters vs Fnatic
DESCRIPTION:LEC · BO3\\nFase: Regular Season\\nMás info: http://localhost:4
 321/calendario?liga=lec
CATEGORIES:LEC
STATUS:TENTATIVE
END:VEVENT
BEGIN:VEVENT
UID:11909@todolol.com
DTSTAMP:20260422T120434Z
DTSTART:20260424T163000Z
DTEND:20260424T193000Z
SUMMARY:Natus Vincere vs Karmine Corp
DESCRIPTION:LEC · BO3\\nFase: Regular Season\\nMás info: http://localhost:4
 321/calendario?liga=lec
CATEGORIES:LEC
STATUS:TENTATIVE
END:VEVENT
BEGIN:VEVENT
UID:11910@todolol.com
DTSTAMP:20260422T120434Z
DTSTART:20260425T144500Z
DTEND:20260425T174500Z
SUMMARY:Fnatic vs Natus Vincere
DESCRIPTION:LEC · BO3\\nFase: Regular Season\\nMás info: http://localhost:4
 321/calendario?liga=lec
CATEGORIES:LEC
STATUS:TENTATIVE
END:VEVENT
BEGIN:VEVENT
UID:11911@todolol.com
DTSTAMP:20260422T120434Z
DTSTART:20260425T163000Z
DTEND:20260425T193000Z
SUMMARY:Karmine Corp vs Shifters
DESCRIPTION:LEC · BO3\\nFase: Regular Season\\nMás info: http://localhost:4
 321/calendario?liga=lec
CATEGORIES:LEC
STATUS:TENTATIVE
END:VEVENT
BEGIN:VEVENT
UID:11912@todolol.com
DTSTAMP:20260422T120434Z
DTSTART:20260426T144500Z
DTEND:20260426T174500Z
SUMMARY:Shifters vs Natus Vincere
DESCRIPTION:LEC · BO3\\nFase: Regular Season\\nMás info: http://localhost:4
 321/calendario?liga=lec
CATEGORIES:LEC
STATUS:TENTATIVE
END:VEVENT
BEGIN:VEVENT
UID:11913@todolol.com
DTSTAMP:20260422T120434Z
DTSTART:20260426T163000Z
DTEND:20260426T193000Z
SUMMARY:Karmine Corp vs Fnatic
DESCRIPTION:LEC · BO3\\nFase: Regular Season\\nMás info: http://localhost:4
 321/calendario?liga=lec
CATEGORIES:LEC
STATUS:TENTATIVE
END:VEVENT
BEGIN:VEVENT
UID:11914@todolol.com
DTSTAMP:20260422T120434Z
DTSTART:20260502T150000Z
DTEND:20260502T180000Z
SUMMARY:Fnatic vs Team Heretics
DESCRIPTION:LEC · BO3\\nFase: Regular Season\\nMás info: http://localhost:4
 321/calendario?liga=lec
CATEGORIES:LEC
STATUS:TENTATIVE
END:VEVENT
BEGIN:VEVENT
UID:11915@todolol.com
DTSTAMP:20260422T120434Z
DTSTART:20260502T171500Z
DTEND:20260502T201500Z
SUMMARY:Team Vitality vs SK Gaming
DESCRIPTION:LEC · BO3\\nFase: Regular Season\\nMás info: http://localhost:4
 321/calendario?liga=lec
CATEGORIES:LEC
STATUS:TENTATIVE
END:VEVENT
BEGIN:VEVENT
UID:11916@todolol.com
DTSTAMP:20260422T120434Z
DTSTART:20260503T150000Z
DTEND:20260503T180000Z
SUMMARY:Team Heretics vs Shifters
DESCRIPTION:LEC · BO3\\nFase: Regular Season\\nMás info: http://localhost:4
 321/calendario?liga=lec
CATEGORIES:LEC
STATUS:TENTATIVE
END:VEVENT
BEGIN:VEVENT
UID:11917@todolol.com
DTSTAMP:20260422T120434Z
DTSTART:20260503T171500Z
DTEND:20260503T201500Z
SUMMARY:G2 Esports vs Natus Vincere
DESCRIPTION:LEC · BO3\\nFase: Regular Season\\nMás info: http://localhost:4
 321/calendario?liga=lec
CATEGORIES:LEC
STATUS:TENTATIVE
END:VEVENT
BEGIN:VEVENT
UID:11918@todolol.com
DTSTAMP:20260422T120434Z
DTSTART:20260504T150000Z
DTEND:20260504T180000Z
SUMMARY:Fnatic vs Team Vitality
DESCRIPTION:LEC · BO3\\nFase: Regular Season\\nMás info: http://localhost:4
 321/calendario?liga=lec
CATEGORIES:LEC
STATUS:TENTATIVE
END:VEVENT
BEGIN:VEVENT
UID:11919@todolol.com
DTSTAMP:20260422T120434Z
DTSTART:20260504T171500Z
DTEND:20260504T201500Z
SUMMARY:Shifters vs Movistar KOI
DESCRIPTION:LEC · BO3\\nFase: Regular Season\\nMás info: http://localhost:4
 321/calendario?liga=lec
CATEGORIES:LEC
STATUS:TENTATIVE
END:VEVENT
BEGIN:VEVENT
UID:11920@todolol.com
DTSTAMP:20260422T120434Z
DTSTART:20260508T140000Z
DTEND:20260508T170000Z
SUMMARY:Karmine Corp vs G2 Esports
DESCRIPTION:LEC · BO3\\nFase: Regular Season\\nMás info: http://localhost:4
 321/calendario?liga=lec
CATEGORIES:LEC
STATUS:TENTATIVE
END:VEVENT
BEGIN:VEVENT
UID:11921@todolol.com
DTSTAMP:20260422T120434Z
DTSTART:20260508T170000Z
DTEND:20260508T200000Z
SUMMARY:GIANTX vs Movistar KOI
DESCRIPTION:LEC · BO3\\nFase: Regular Season\\nMás info: http://localhost:4
 321/calendario?liga=lec
CATEGORIES:LEC
STATUS:TENTATIVE
END:VEVENT
BEGIN:VEVENT
UID:11922@todolol.com
DTSTAMP:20260422T120434Z
DTSTART:20260509T140000Z
DTEND:20260509T170000Z
SUMMARY:G2 Esports vs GIANTX
DESCRIPTION:LEC · BO3\\nFase: Regular Season\\nMás info: http://localhost:4
 321/calendario?liga=lec
CATEGORIES:LEC
STATUS:TENTATIVE
END:VEVENT
BEGIN:VEVENT
UID:11923@todolol.com
DTSTAMP:20260422T120434Z
DTSTART:20260509T170000Z
DTEND:20260509T200000Z
SUMMARY:Movistar KOI vs Karmine Corp
DESCRIPTION:LEC · BO3\\nFase: Regular Season\\nMás info: http://localhost:4
 321/calendario?liga=lec
CATEGORIES:LEC
STATUS:TENTATIVE
END:VEVENT
BEGIN:VEVENT
UID:11924@todolol.com
DTSTAMP:20260422T120434Z
DTSTART:20260510T140000Z
DTEND:20260510T170000Z
SUMMARY:Karmine Corp vs GIANTX
DESCRIPTION:LEC · BO3\\nFase: Regular Season\\nMás info: http://localhost:4
 321/calendario?liga=lec
CATEGORIES:LEC
STATUS:TENTATIVE
END:VEVENT
BEGIN:VEVENT
UID:11925@todolol.com
DTSTAMP:20260422T120434Z
DTSTART:20260510T170000Z
DTEND:20260510T200000Z
SUMMARY:Movistar KOI vs G2 Esports
DESCRIPTION:LEC · BO3\\nFase: Regular Season\\nMás info: http://localhost:4
 321/calendario?liga=lec
CATEGORIES:LEC
STATUS:TENTATIVE
END:VEVENT
END:VCALENDAR
