BEGIN:VCALENDAR
VERSION:2.0
PRODID:-//TodoLoL//Matches LPL//ES
CALSCALE:GREGORIAN
METHOD:PUBLISH
NAME:TodoLoL — LPL
X-WR-CALNAME:TodoLoL — LPL
X-WR-CALDESC:Calendario oficial de partidos de la LPL en TodoLoL
X-WR-TIMEZONE:UTC
REFRESH-INTERVAL;VALUE=DURATION:PT1H
X-PUBLISHED-TTL:PT1H
BEGIN:VEVENT
UID:12178@todolol.com
DTSTAMP:20260422T120434Z
DTSTART:20260416T090000Z
DTEND:20260416T120000Z
SUMMARY:Anyone's Legend vs Team WE
DESCRIPTION:LPL · BO3\\nFase: Week 1-4\\nMás info: http://localhost:4321/ca
 lendario?liga=lpl
CATEGORIES:LPL
STATUS:CONFIRMED
END:VEVENT
BEGIN:VEVENT
UID:12179@todolol.com
DTSTAMP:20260422T120434Z
DTSTART:20260416T111500Z
DTEND:20260416T141500Z
SUMMARY:Bilibili Gaming vs Top Esports
DESCRIPTION:LPL · BO3\\nFase: Week 1-4\\nMás info: http://localhost:4321/ca
 lendario?liga=lpl
CATEGORIES:LPL
STATUS:CONFIRMED
END:VEVENT
BEGIN:VEVENT
UID:12180@todolol.com
DTSTAMP:20260422T120434Z
DTSTART:20260417T090000Z
DTEND:20260417T120000Z
SUMMARY:ThunderTalk Gaming vs Oh My God
DESCRIPTION:LPL · BO3\\nFase: Week 1-4\\nMás info: http://localhost:4321/ca
 lendario?liga=lpl
CATEGORIES:LPL
STATUS:CONFIRMED
END:VEVENT
BEGIN:VEVENT
UID:12181@todolol.com
DTSTAMP:20260422T120434Z
DTSTART:20260417T120000Z
DTEND:20260417T150000Z
SUMMARY:JD Gaming vs Ninjas in Pyjamas
DESCRIPTION:LPL · BO3\\nFase: Week 1-4\\nMás info: http://localhost:4321/ca
 lendario?liga=lpl
CATEGORIES:LPL
STATUS:CONFIRMED
END:VEVENT
BEGIN:VEVENT
UID:12182@todolol.com
DTSTAMP:20260422T120434Z
DTSTART:20260418T090000Z
DTEND:20260418T120000Z
SUMMARY:Bilibili Gaming vs Invictus Gaming
DESCRIPTION:LPL · BO3\\nFase: Week 1-4\\nMás info: http://localhost:4321/ca
 lendario?liga=lpl
CATEGORIES:LPL
STATUS:CONFIRMED
END:VEVENT
BEGIN:VEVENT
UID:12183@todolol.com
DTSTAMP:20260422T120434Z
DTSTART:20260418T120500Z
DTEND:20260418T150500Z
SUMMARY:JD Gaming vs Weibo Gaming
DESCRIPTION:LPL · BO3\\nFase: Week 1-4\\nMás info: http://localhost:4321/ca
 lendario?liga=lpl
CATEGORIES:LPL
STATUS:CONFIRMED
END:VEVENT
BEGIN:VEVENT
UID:12184@todolol.com
DTSTAMP:20260422T120434Z
DTSTART:20260419T090000Z
DTEND:20260419T120000Z
SUMMARY:Invictus Gaming vs Top Esports
DESCRIPTION:LPL · BO3\\nFase: Week 1-4\\nMás info: http://localhost:4321/ca
 lendario?liga=lpl
CATEGORIES:LPL
STATUS:CONFIRMED
END:VEVENT
BEGIN:VEVENT
UID:12185@todolol.com
DTSTAMP:20260422T120434Z
DTSTART:20260419T110000Z
DTEND:20260419T140000Z
SUMMARY:Anyone's Legend vs Bilibili Gaming
DESCRIPTION:LPL · BO3\\nFase: Week 1-4\\nMás info: http://localhost:4321/ca
 lendario?liga=lpl
CATEGORIES:LPL
STATUS:CONFIRMED
END:VEVENT
BEGIN:VEVENT
UID:12190@todolol.com
DTSTAMP:20260422T120434Z
DTSTART:20260422T090000Z
DTEND:20260422T120000Z
SUMMARY:Team WE vs Weibo Gaming
DESCRIPTION:LPL · BO3\\nFase: Week 1-4\\nMás info: http://localhost:4321/ca
 lendario?liga=lpl
CATEGORIES:LPL
STATUS:CONFIRMED
END:VEVENT
BEGIN:VEVENT
UID:12191@todolol.com
DTSTAMP:20260422T120434Z
DTSTART:20260422T110000Z
DTEND:20260422T140000Z
SUMMARY:Anyone's Legend vs Ninjas in Pyjamas
DESCRIPTION:LPL · BO3\\nFase: Week 1-4\\nMás info: http://localhost:4321/ca
 lendario?liga=lpl
CATEGORIES:LPL
STATUS:TENTATIVE
END:VEVENT
BEGIN:VEVENT
UID:12192@todolol.com
DTSTAMP:20260422T120434Z
DTSTART:20260423T090000Z
DTEND:20260423T120000Z
SUMMARY:EDward Gaming vs LGD Gaming
DESCRIPTION:LPL · BO3\\nFase: Week 1-4\\nMás info: http://localhost:4321/ca
 lendario?liga=lpl
CATEGORIES:LPL
STATUS:TENTATIVE
END:VEVENT
BEGIN:VEVENT
UID:12193@todolol.com
DTSTAMP:20260422T120434Z
DTSTART:20260423T110000Z
DTEND:20260423T140000Z
SUMMARY:Bilibili Gaming vs Ninjas in Pyjamas
DESCRIPTION:LPL · BO3\\nFase: Week 1-4\\nMás info: http://localhost:4321/ca
 lendario?liga=lpl
CATEGORIES:LPL
STATUS:TENTATIVE
END:VEVENT
BEGIN:VEVENT
UID:12194@todolol.com
DTSTAMP:20260422T120434Z
DTSTART:20260424T090000Z
DTEND:20260424T120000Z
SUMMARY:LNG Esports vs Oh My God
DESCRIPTION:LPL · BO3\\nFase: Week 1-4\\nMás info: http://localhost:4321/ca
 lendario?liga=lpl
CATEGORIES:LPL
STATUS:TENTATIVE
END:VEVENT
BEGIN:VEVENT
UID:12195@todolol.com
DTSTAMP:20260422T120434Z
DTSTART:20260424T110000Z
DTEND:20260424T140000Z
SUMMARY:Invictus Gaming vs JD Gaming
DESCRIPTION:LPL · BO3\\nFase: Week 1-4\\nMás info: http://localhost:4321/ca
 lendario?liga=lpl
CATEGORIES:LPL
STATUS:TENTATIVE
END:VEVENT
BEGIN:VEVENT
UID:12196@todolol.com
DTSTAMP:20260422T120434Z
DTSTART:20260425T070000Z
DTEND:20260425T100000Z
SUMMARY:Ninjas in Pyjamas vs Top Esports
DESCRIPTION:LPL · BO3\\nFase: Week 1-4\\nMás info: http://localhost:4321/ca
 lendario?liga=lpl
CATEGORIES:LPL
STATUS:TENTATIVE
END:VEVENT
BEGIN:VEVENT
UID:12197@todolol.com
DTSTAMP:20260422T120434Z
DTSTART:20260425T090000Z
DTEND:20260425T120000Z
SUMMARY:JD Gaming vs Team WE
DESCRIPTION:LPL · BO3\\nFase: Week 1-4\\nMás info: http://localhost:4321/ca
 lendario?liga=lpl
CATEGORIES:LPL
STATUS:TENTATIVE
END:VEVENT
BEGIN:VEVENT
UID:12198@todolol.com
DTSTAMP:20260422T120434Z
DTSTART:20260425T110000Z
DTEND:20260425T140000Z
SUMMARY:Anyone's Legend vs Weibo Gaming
DESCRIPTION:LPL · BO3\\nFase: Week 1-4\\nMás info: http://localhost:4321/ca
 lendario?liga=lpl
CATEGORIES:LPL
STATUS:TENTATIVE
END:VEVENT
BEGIN:VEVENT
UID:12199@todolol.com
DTSTAMP:20260422T120434Z
DTSTART:20260426T090000Z
DTEND:20260426T120000Z
SUMMARY:Ultra Prime vs LGD Gaming
DESCRIPTION:LPL · BO3\\nFase: Week 1-4\\nMás info: http://localhost:4321/ca
 lendario?liga=lpl
CATEGORIES:LPL
STATUS:TENTATIVE
END:VEVENT
BEGIN:VEVENT
UID:12200@todolol.com
DTSTAMP:20260422T120434Z
DTSTART:20260426T110000Z
DTEND:20260426T140000Z
SUMMARY:Weibo Gaming vs Bilibili Gaming
DESCRIPTION:LPL · BO3\\nFase: Week 1-4\\nMás info: http://localhost:4321/ca
 lendario?liga=lpl
CATEGORIES:LPL
STATUS:TENTATIVE
END:VEVENT
BEGIN:VEVENT
UID:12204@todolol.com
DTSTAMP:20260422T120434Z
DTSTART:20260428T090000Z
DTEND:20260428T120000Z
SUMMARY:Invictus Gaming vs Anyone's Legend
DESCRIPTION:LPL · BO3\\nFase: Week 5-7\\nMás info: http://localhost:4321/ca
 lendario?liga=lpl
CATEGORIES:LPL
STATUS:TENTATIVE
END:VEVENT
BEGIN:VEVENT
UID:12205@todolol.com
DTSTAMP:20260422T120434Z
DTSTART:20260428T110000Z
DTEND:20260428T140000Z
SUMMARY:Weibo Gaming vs Top Esports
DESCRIPTION:LPL · BO3\\nFase: Week 5-7\\nMás info: http://localhost:4321/ca
 lendario?liga=lpl
CATEGORIES:LPL
STATUS:TENTATIVE
END:VEVENT
BEGIN:VEVENT
UID:12206@todolol.com
DTSTAMP:20260422T120434Z
DTSTART:20260429T090000Z
DTEND:20260429T120000Z
SUMMARY:Ninjas in Pyjamas vs JD Gaming
DESCRIPTION:LPL · BO3\\nFase: Week 5-7\\nMás info: http://localhost:4321/ca
 lendario?liga=lpl
CATEGORIES:LPL
STATUS:TENTATIVE
END:VEVENT
BEGIN:VEVENT
UID:12207@todolol.com
DTSTAMP:20260422T120434Z
DTSTART:20260429T110000Z
DTEND:20260429T140000Z
SUMMARY:Team WE vs Bilibili Gaming
DESCRIPTION:LPL · BO3\\nFase: Week 5-7\\nMás info: http://localhost:4321/ca
 lendario?liga=lpl
CATEGORIES:LPL
STATUS:TENTATIVE
END:VEVENT
BEGIN:VEVENT
UID:12208@todolol.com
DTSTAMP:20260422T120434Z
DTSTART:20260430T090000Z
DTEND:20260430T120000Z
SUMMARY:ThunderTalk Gaming vs LGD Gaming
DESCRIPTION:LPL · BO3\\nFase: Week 5-7\\nMás info: http://localhost:4321/ca
 lendario?liga=lpl
CATEGORIES:LPL
STATUS:TENTATIVE
END:VEVENT
BEGIN:VEVENT
UID:12209@todolol.com
DTSTAMP:20260422T120434Z
DTSTART:20260430T110000Z
DTEND:20260430T140000Z
SUMMARY:EDward Gaming vs Ultra Prime
DESCRIPTION:LPL · BO3\\nFase: Week 5-7\\nMás info: http://localhost:4321/ca
 lendario?liga=lpl
CATEGORIES:LPL
STATUS:TENTATIVE
END:VEVENT
BEGIN:VEVENT
UID:12210@todolol.com
DTSTAMP:20260422T120434Z
DTSTART:20260501T090000Z
DTEND:20260501T120000Z
SUMMARY:Top Esports vs Anyone's Legend
DESCRIPTION:LPL · BO3\\nFase: Week 5-7\\nMás info: http://localhost:4321/ca
 lendario?liga=lpl
CATEGORIES:LPL
STATUS:TENTATIVE
END:VEVENT
BEGIN:VEVENT
UID:12211@todolol.com
DTSTAMP:20260422T120434Z
DTSTART:20260501T110000Z
DTEND:20260501T140000Z
SUMMARY:Weibo Gaming vs Invictus Gaming
DESCRIPTION:LPL · BO3\\nFase: Week 5-7\\nMás info: http://localhost:4321/ca
 lendario?liga=lpl
CATEGORIES:LPL
STATUS:TENTATIVE
END:VEVENT
BEGIN:VEVENT
UID:12212@todolol.com
DTSTAMP:20260422T120434Z
DTSTART:20260502T070000Z
DTEND:20260502T100000Z
SUMMARY:Team WE vs JD Gaming
DESCRIPTION:LPL · BO3\\nFase: Week 5-7\\nMás info: http://localhost:4321/ca
 lendario?liga=lpl
CATEGORIES:LPL
STATUS:TENTATIVE
END:VEVENT
BEGIN:VEVENT
UID:12213@todolol.com
DTSTAMP:20260422T120434Z
DTSTART:20260502T090000Z
DTEND:20260502T120000Z
SUMMARY:Top Esports vs Weibo Gaming
DESCRIPTION:LPL · BO3\\nFase: Week 5-7\\nMás info: http://localhost:4321/ca
 lendario?liga=lpl
CATEGORIES:LPL
STATUS:TENTATIVE
END:VEVENT
BEGIN:VEVENT
UID:12214@todolol.com
DTSTAMP:20260422T120434Z
DTSTART:20260502T110000Z
DTEND:20260502T140000Z
SUMMARY:Anyone's Legend vs Invictus Gaming
DESCRIPTION:LPL · BO3\\nFase: Week 5-7\\nMás info: http://localhost:4321/ca
 lendario?liga=lpl
CATEGORIES:LPL
STATUS:TENTATIVE
END:VEVENT
BEGIN:VEVENT
UID:12215@todolol.com
DTSTAMP:20260422T120434Z
DTSTART:20260503T090000Z
DTEND:20260503T120000Z
SUMMARY:ThunderTalk Gaming vs LNG Esports
DESCRIPTION:LPL · BO3\\nFase: Week 5-7\\nMás info: http://localhost:4321/ca
 lendario?liga=lpl
CATEGORIES:LPL
STATUS:TENTATIVE
END:VEVENT
BEGIN:VEVENT
UID:12216@todolol.com
DTSTAMP:20260422T120434Z
DTSTART:20260503T110000Z
DTEND:20260503T140000Z
SUMMARY:Ninjas in Pyjamas vs Bilibili Gaming
DESCRIPTION:LPL · BO3\\nFase: Week 5-7\\nMás info: http://localhost:4321/ca
 lendario?liga=lpl
CATEGORIES:LPL
STATUS:TENTATIVE
END:VEVENT
BEGIN:VEVENT
UID:12219@todolol.com
DTSTAMP:20260422T120434Z
DTSTART:20260506T090000Z
DTEND:20260506T120000Z
SUMMARY:Team WE vs Invictus Gaming
DESCRIPTION:LPL · BO3\\nFase: Week 5-7\\nMás info: http://localhost:4321/ca
 lendario?liga=lpl
CATEGORIES:LPL
STATUS:TENTATIVE
END:VEVENT
BEGIN:VEVENT
UID:12220@todolol.com
DTSTAMP:20260422T120434Z
DTSTART:20260506T110000Z
DTEND:20260506T140000Z
SUMMARY:Top Esports vs JD Gaming
DESCRIPTION:LPL · BO3\\nFase: Week 5-7\\nMás info: http://localhost:4321/ca
 lendario?liga=lpl
CATEGORIES:LPL
STATUS:TENTATIVE
END:VEVENT
BEGIN:VEVENT
UID:12221@todolol.com
DTSTAMP:20260422T120434Z
DTSTART:20260507T090000Z
DTEND:20260507T120000Z
SUMMARY:Weibo Gaming vs Team WE
DESCRIPTION:LPL · BO3\\nFase: Week 5-7\\nMás info: http://localhost:4321/ca
 lendario?liga=lpl
CATEGORIES:LPL
STATUS:TENTATIVE
END:VEVENT
BEGIN:VEVENT
UID:12222@todolol.com
DTSTAMP:20260422T120434Z
DTSTART:20260507T110000Z
DTEND:20260507T140000Z
SUMMARY:Ninjas in Pyjamas vs Anyone's Legend
DESCRIPTION:LPL · BO3\\nFase: Week 5-7\\nMás info: http://localhost:4321/ca
 lendario?liga=lpl
CATEGORIES:LPL
STATUS:TENTATIVE
END:VEVENT
BEGIN:VEVENT
UID:12223@todolol.com
DTSTAMP:20260422T120434Z
DTSTART:20260508T090000Z
DTEND:20260508T120000Z
SUMMARY:Ultra Prime vs LNG Esports
DESCRIPTION:LPL · BO3\\nFase: Week 5-7\\nMás info: http://localhost:4321/ca
 lendario?liga=lpl
CATEGORIES:LPL
STATUS:TENTATIVE
END:VEVENT
BEGIN:VEVENT
UID:12224@todolol.com
DTSTAMP:20260422T120434Z
DTSTART:20260508T110000Z
DTEND:20260508T140000Z
SUMMARY:JD Gaming vs Bilibili Gaming
DESCRIPTION:LPL · BO3\\nFase: Week 5-7\\nMás info: http://localhost:4321/ca
 lendario?liga=lpl
CATEGORIES:LPL
STATUS:TENTATIVE
END:VEVENT
BEGIN:VEVENT
UID:12225@todolol.com
DTSTAMP:20260422T120434Z
DTSTART:20260509T090000Z
DTEND:20260509T120000Z
SUMMARY:Ninjas in Pyjamas vs Invictus Gaming
DESCRIPTION:LPL · BO3\\nFase: Week 5-7\\nMás info: http://localhost:4321/ca
 lendario?liga=lpl
CATEGORIES:LPL
STATUS:TENTATIVE
END:VEVENT
BEGIN:VEVENT
UID:12226@todolol.com
DTSTAMP:20260422T120434Z
DTSTART:20260509T110000Z
DTEND:20260509T140000Z
SUMMARY:Top Esports vs Team WE
DESCRIPTION:LPL · BO3\\nFase: Week 5-7\\nMás info: http://localhost:4321/ca
 lendario?liga=lpl
CATEGORIES:LPL
STATUS:TENTATIVE
END:VEVENT
BEGIN:VEVENT
UID:12227@todolol.com
DTSTAMP:20260422T120434Z
DTSTART:20260510T090000Z
DTEND:20260510T120000Z
SUMMARY:Weibo Gaming vs Ninjas in Pyjamas
DESCRIPTION:LPL · BO3\\nFase: Week 5-7\\nMás info: http://localhost:4321/ca
 lendario?liga=lpl
CATEGORIES:LPL
STATUS:TENTATIVE
END:VEVENT
BEGIN:VEVENT
UID:12228@todolol.com
DTSTAMP:20260422T120434Z
DTSTART:20260510T110000Z
DTEND:20260510T140000Z
SUMMARY:JD Gaming vs Anyone's Legend
DESCRIPTION:LPL · BO3\\nFase: Week 5-7\\nMás info: http://localhost:4321/ca
 lendario?liga=lpl
CATEGORIES:LPL
STATUS:TENTATIVE
END:VEVENT
BEGIN:VEVENT
UID:12234@todolol.com
DTSTAMP:20260422T120434Z
DTSTART:20260512T090000Z
DTEND:20260512T120000Z
SUMMARY:Top Esports vs Ninjas in Pyjamas
DESCRIPTION:LPL · BO3\\nFase: Week 5-7\\nMás info: http://localhost:4321/ca
 lendario?liga=lpl
CATEGORIES:LPL
STATUS:TENTATIVE
END:VEVENT
BEGIN:VEVENT
UID:12235@todolol.com
DTSTAMP:20260422T120434Z
DTSTART:20260512T110000Z
DTEND:20260512T140000Z
SUMMARY:Invictus Gaming vs Bilibili Gaming
DESCRIPTION:LPL · BO3\\nFase: Week 5-7\\nMás info: http://localhost:4321/ca
 lendario?liga=lpl
CATEGORIES:LPL
STATUS:TENTATIVE
END:VEVENT
BEGIN:VEVENT
UID:12236@todolol.com
DTSTAMP:20260422T120434Z
DTSTART:20260513T090000Z
DTEND:20260513T120000Z
SUMMARY:Oh My God vs EDward Gaming
DESCRIPTION:LPL · BO3\\nFase: Week 5-7\\nMás info: http://localhost:4321/ca
 lendario?liga=lpl
CATEGORIES:LPL
STATUS:TENTATIVE
END:VEVENT
BEGIN:VEVENT
UID:12237@todolol.com
DTSTAMP:20260422T120434Z
DTSTART:20260513T110000Z
DTEND:20260513T140000Z
SUMMARY:Team WE vs Anyone's Legend
DESCRIPTION:LPL · BO3\\nFase: Week 5-7\\nMás info: http://localhost:4321/ca
 lendario?liga=lpl
CATEGORIES:LPL
STATUS:TENTATIVE
END:VEVENT
BEGIN:VEVENT
UID:12238@todolol.com
DTSTAMP:20260422T120434Z
DTSTART:20260514T090000Z
DTEND:20260514T120000Z
SUMMARY:LGD Gaming vs LNG Esports
DESCRIPTION:LPL · BO3\\nFase: Week 5-7\\nMás info: http://localhost:4321/ca
 lendario?liga=lpl
CATEGORIES:LPL
STATUS:TENTATIVE
END:VEVENT
BEGIN:VEVENT
UID:12239@todolol.com
DTSTAMP:20260422T120434Z
DTSTART:20260514T110000Z
DTEND:20260514T140000Z
SUMMARY:Weibo Gaming vs JD Gaming
DESCRIPTION:LPL · BO3\\nFase: Week 5-7\\nMás info: http://localhost:4321/ca
 lendario?liga=lpl
CATEGORIES:LPL
STATUS:TENTATIVE
END:VEVENT
BEGIN:VEVENT
UID:12240@todolol.com
DTSTAMP:20260422T120434Z
DTSTART:20260515T090000Z
DTEND:20260515T120000Z
SUMMARY:Oh My God vs Ultra Prime
DESCRIPTION:LPL · BO3\\nFase: Week 5-7\\nMás info: http://localhost:4321/ca
 lendario?liga=lpl
CATEGORIES:LPL
STATUS:TENTATIVE
END:VEVENT
BEGIN:VEVENT
UID:12241@todolol.com
DTSTAMP:20260422T120434Z
DTSTART:20260515T110000Z
DTEND:20260515T140000Z
SUMMARY:Top Esports vs Bilibili Gaming
DESCRIPTION:LPL · BO3\\nFase: Week 5-7\\nMás info: http://localhost:4321/ca
 lendario?liga=lpl
CATEGORIES:LPL
STATUS:TENTATIVE
END:VEVENT
BEGIN:VEVENT
UID:12631@todolol.com
DTSTAMP:20260422T120434Z
DTSTART:20260516T090000Z
DTEND:20260516T120000Z
SUMMARY:EDward Gaming vs ThunderTalk Gaming
DESCRIPTION:LPL · BO3\\nFase: Week 5-7\\nMás info: http://localhost:4321/ca
 lendario?liga=lpl
CATEGORIES:LPL
STATUS:TENTATIVE
END:VEVENT
BEGIN:VEVENT
UID:12632@todolol.com
DTSTAMP:20260422T120434Z
DTSTART:20260516T110000Z
DTEND:20260516T140000Z
SUMMARY:Team WE vs Ninjas in Pyjamas
DESCRIPTION:LPL · BO3\\nFase: Week 5-7\\nMás info: http://localhost:4321/ca
 lendario?liga=lpl
CATEGORIES:LPL
STATUS:TENTATIVE
END:VEVENT
BEGIN:VEVENT
UID:12637@todolol.com
DTSTAMP:20260422T120434Z
DTSTART:20260517T090000Z
DTEND:20260517T120000Z
SUMMARY:JD Gaming vs Invictus Gaming
DESCRIPTION:LPL · BO3\\nFase: Week 5-7\\nMás info: http://localhost:4321/ca
 lendario?liga=lpl
CATEGORIES:LPL
STATUS:TENTATIVE
END:VEVENT
BEGIN:VEVENT
UID:12638@todolol.com
DTSTAMP:20260422T120434Z
DTSTART:20260517T110000Z
DTEND:20260517T140000Z
SUMMARY:Bilibili Gaming vs Anyone's Legend
DESCRIPTION:LPL · BO3\\nFase: Week 5-7\\nMás info: http://localhost:4321/ca
 lendario?liga=lpl
CATEGORIES:LPL
STATUS:TENTATIVE
END:VEVENT
END:VCALENDAR
